BEGIN:VCALENDAR
VERSION:2.0
PRODID:-// - ECPv4.9.13//NONSGML v1.0//EN
CALSCALE:GREGORIAN
METHOD:PUBLISH
X-ORIGINAL-URL:https://wordpress.kinderschutzbund-goettingen.de
X-WR-CALDESC:Veranstaltungen im 
BEGIN:VTIMEZONE
TZID:Europe/Berlin
BEGIN:DAYLIGHT
TZOFFSETFROM:+0100
TZOFFSETTO:+0200
TZNAME:CEST
DTSTART:20200329T010000
END:DAYLIGHT
BEGIN:STANDARD
TZOFFSETFROM:+0200
TZOFFSETTO:+0100
TZNAME:CET
DTSTART:20201025T010000
END:STANDARD
END:VTIMEZONE
BEGIN:VEVENT
DTSTART;TZID=Europe/Berlin:20201010T150000
DTEND;TZID=Europe/Berlin:20201010T173000
DTSTAMP:20260422T094807
CREATED:20201013T103552Z
LAST-MODIFIED:20201013T103552Z
UID:638-1602342000-1602351000@wordpress.kinderschutzbund-goettingen.de
SUMMARY:Kooperativ kommunizieren - Beratungs- und Konfliktgespräche qualifizieren
DESCRIPTION:\n2. Teil: Veranstaltung des Kinderschutzbundes Göttingen e.V. im Gemeindesaal Sankt Michael\, Innenhof Kurze Str. 13\, Göttingen am Samstag\, 10.10.2020\, 15:00 – 17:30 Uhr ~ es sind noch Plätze frei ~ :  \n \nAuch Neueinsteiger*innen sind willkommen!  \n \nEin Ziel kann man leichter erreichen\, wenn man weiß\, von wo man startet: Eigene Bedürfnisse und Wünsche zu kennen und zu benennen\, ist  eine wesentliche Voraussetzung für unsere Kommunikation\, wenn sie gelingen soll. Im 2. Teil vertiefen wir diese Erfahrungen und erproben alltagstaugliche Konflikt – und Beratungsstrategien an Beispielen. \n \n\nZum zweiten Teil der Fortbildung Kommunikation in Familien und in der Beratung möchten wir Sie herzlich einladen. Die Schwerpunkte aus Teil 1 werden kurz zusammengefasst.\n\n \nWillkommen sind auch alle Neueinsteiger\, sowohl Eltern als auch Berater und an Beratung interessierte Menschen\, denn wir sind ein Mitmachkreis: Learning by doing! \n \nWir bitten wieder um baldige Rückmeldung\, da die Teilnehmerzahl begrenzt ist auf 20. Bitte bringen Sie sich Verpflegung mit\, falls Sie in der Pause etwas essen oder trinken möchten. \n \nAnmeldungen unter Tel. 0551-7709844\, oder Email: post@kinderschutzbund-goettingen.de. \n
URL:https://wordpress.kinderschutzbund-goettingen.de/event/kooperativ-kommunizieren-beratungs-und-konfliktgespraeche-qualifizieren
LOCATION:Gemeindesaal St. Michael\, Kurze Straße 13\, Göttingen\, Niedersachsen\, 37073\, Deutschland
ORGANIZER;CN="Kinderschutzbund%20G%C3%B6ttingen%20e.V.":MAILTO:post@kinderschutzbund-goettingen.de
END:VEVENT
END:VCALENDAR